BEGIN:VCALENDAR
METHOD:PUBLISH
PRODID:-//3730@www.region-coburg.tv//NONSGML iCalcreator 2.4.3//
VERSION:2.0
BEGIN:VEVENT
UID:3730-20160715200000-20160715000000@www.region-coburg.tv
DTSTAMP:20260420T064224Z
CONTACT:www.eventim.de
CREATED:20160518T184800Z
DESCRIPTION:Soundtracks in der HUK-Coburg arena | Mit freundlicher UnterstÃ
 ¼tzung der VR-Bank CoburgWenn die beiden Coburger â€žLeuchttÃ¼rme'\, das L
 andestheater Coburg und der HSC 2000 Coburg\, gemeinsame Sache machen\, en
 tsteht groÃŸes Kino. Und das ist durchaus wÃ¶rtlich zu nehmen: Mitte Juli 
 wird die HUK-Coburg arena zum Schauplatz eines auÃŸergewÃ¶hnlichen Events.
  Die Halle\, in der die Spieler des HSC Coburg um den Aufstieg in die erst
 e Bundesliga kÃ¤mpfen\, wird an diesem Tag zur BÃ¼hne\, die vom Philharmon
 ische Orchester des Landestheaters Coburg und der Bundesligamannschaft des
  HSC gemeinsam bespielt wird.Weitere Informationen - Tickets: www.eventim.
 de
DTEND:20160715T000000
DTSTART:20160715T200000
LAST-MODIFIED:20160518T184800Z
LOCATION:HUK-COBURG arena
SUMMARY:Handball-Sinfonie
X-IMAGE:http://www.region-coburg.tv/images/medium/handballsinfonie-vh-9aadf
 68d.jpg
END:VEVENT
END:VCALENDAR
