BEGIN:VCALENDAR
METHOD:PUBLISH
PRODID:-//3728@www.region-coburg.tv//NONSGML iCalcreator 2.4.3//
VERSION:2.0
BEGIN:VEVENT
UID:3728-20160705193000-20160705000000@www.region-coburg.tv
DTSTAMP:20260420T164700Z
CONTACT:09561 / 898989
CREATED:20160518T183700Z
DESCRIPTION:Ein generationenÃ¼bergreifendes TanzTheater-Projekt fÃ¼r Coburg
 er BÃ¼rger von Luca Pauer | Mit freundlicher UnterstÃ¼tzung der HUK-Coburg
 Die Belastung entstand im Nationalsozialismus\, als das Volk plÃ¶tzlichÂ e
 ine Stammeskultur im Lebensraum staatlich verordnet bekam. Gegenwartsbezug
 Â forderten die Reformer daher 1970\, und wieder rÃ¼ckte nunauch die seriÃ
 ¶se Wissenschaft etwas weiter von Traditionen ab\, dieÂ deutlich Ã¤lter wa
 ren als der Rassenwahn der Braunhemden.Â Heute wundern wir uns Ã¼ber neugi
 erige NeuseelÃ¤nder\, die uns unsereÂ deutschen RegionalbrÃ¤uche im Fernse
 hen erklÃ¤ren und beginnen\, dieÂ MÃ¤rchensammler und Volkslieddenker wie 
 die BrÃ¼der Grimm oder Johann Gottfried Herder wieder neu zu entdecken.Um 
 so aktueller istÂ das generationenÃ¼bergreifende TanzTheater-Projekt â€žVe
 rsunken'\, dasÂ die Sagen und Mythen des Coburger Landes erforscht\, um de
 n ReichtumÂ einer â€žKultur vor der HaustÃ¼r' zu zeigen und ganz im Sinne 
 derÂ Grimms und Herders das Vergessen zu entmachten. Mitmachen kann jederm
 ann\, Vorkenntnisse sind nicht erforderlich. Das NachfolgeprojektÂ der â€ž
 Unendlichen Geschichte' kann im besten Falle zu einerÂ ebensolchen beitrag
 en.Landestheater Coburg\, Premiere am 2. Juli 2016 - Tickets: 09561 / 8989
 89
DTEND:20160705T000000
DTSTART:20160705T193000
LAST-MODIFIED:20160518T183700Z
LOCATION:Landestheater Coburg\, GroÃŸes Haus
SUMMARY:COnstruct: Versunken
X-IMAGE:http://www.region-coburg.tv/images/medium/versunken-vh-094c4ade.jpg
END:VEVENT
END:VCALENDAR
