BEGIN:VCALENDAR
METHOD:PUBLISH
PRODID:-//3727@www.region-coburg.tv//NONSGML iCalcreator 2.4.3//
VERSION:2.0
BEGIN:VEVENT
UID:3727-20160624200000-20160624000000@www.region-coburg.tv
DTSTAMP:20260420T132613Z
CONTACT:09561 / 898989
CREATED:20160518T183100Z
DESCRIPTION:Tanzabend mit Choreografien von Po-Sheng Yeh Seit acht Spielze
 iten ist Tänzer Po-Sheng Yeh festes Mitglied des Coburger Ballettensembl
 es. Unzählige Rollen hat er hier getanzt\, viele Tanzabende mit seinen C
 horeografien bereichert. Nun beendet er seine Tänzerlaufbahn. Zum Abschi
 ed tanzt das Ballettensemble noch einmal eine Auswahl seiner Choreografie
 n\, die in den letzten Jahren für das Landestheater entstanden sind. - T
 ickets: 09561 / 898989
DTEND:20160624T000000
DTSTART:20160624T200000
LAST-MODIFIED:20160518T183100Z
LOCATION:Theater in der Reithalle
SUMMARY:Farewell Po-Sheng Yeh
X-IMAGE:http://www.region-coburg.tv/images/medium/farewell-vh-6822f29e.jpg
END:VEVENT
END:VCALENDAR
