BEGIN:VCALENDAR
METHOD:PUBLISH
PRODID:-//3726@www.region-coburg.tv//NONSGML iCalcreator 2.4.3//
VERSION:2.0
BEGIN:VEVENT
UID:3726-20160610200000-20160610000000@www.region-coburg.tv
DTSTAMP:20260420T083433Z
CONTACT:09561 / 898989
CREATED:20160518T182300Z
DESCRIPTION:Ballettabend von Tara Yipp nach dem Schauspiel von Anthony Burg
 essWeltliteratur trifft Kultfilm â€“ und das zum Greifen nahe im Theater â
 €“Â gespielt von lebenden Menschen. Durchatmen. Stanley Kubricks FilmÂ â€ž
 Clockwork Orange' verstĂ¶rte das Kino-Publikum in den frĂĽhen 70erÂ Jahren
  teils so sehr\, dass eine groĂźe Kontroverse entstand. Im VereinigtenÂ KĂ
 ¶nigreich verschwand der Film fĂĽr 27 Jahre aus den Kinos\, inÂ den USA wu
 rde eine stark geschnittene Version zugelassen.VideoLandestheater Coburg\,
  Premiere am 10. Juni 2016 - Tickets: 09561 / 898989
DTEND:20160610T000000
DTSTART:20160610T200000
LAST-MODIFIED:20160518T182300Z
LOCATION:Theater in der Reithalle
SUMMARY:A Clockwork Orange
X-IMAGE:http://www.region-coburg.tv/images/medium/clockwork-vh-1040f302.jpg
END:VEVENT
END:VCALENDAR
