BEGIN:VCALENDAR
METHOD:PUBLISH
PRODID:-//3725@www.region-coburg.tv//NONSGML iCalcreator 2.4.3//
VERSION:2.0
BEGIN:VEVENT
UID:3725-20160727201500-20160727000000@www.region-coburg.tv
DTSTAMP:20260420T064240Z
CONTACT:09561 / 239051
CREATED:20160514T110300Z
DESCRIPTION:Gordian Maugg erweckt hier ein Stück mitreißender Filmgeschic
 hte zu neuem Leben: Der berühmte deutsche Stummfilmregisseur Fritz Lang p
 lant 1930 sein Tonfilmdebüt und sucht verzweifelt nach einer mitreißende
 n Story. Zufällig erfährt er von der packenden Jagd des Kriminalrats Gen
 nat auf Peter Kürten\, einen erbarmungslosen Serienkiller. Der fasziniert
 e Filmemacher verdichtet diesen realen Fall zu seinem zeitlosen Filmklassi
 ker „M - Eine Stadt sucht einen Mörder“ - doch gleichzeitig droht dem
  Künstler eine sehr persönliche Krise: Fritz Lang muss sich seiner eigen
 en Lebensgeschichte stellen.VHS-Film der Woche\, Deutschland 2015 - Ticket
 s: 09561 / 239051
DTEND:20160727T000000
DTSTART:20160727T201500
LAST-MODIFIED:20160514T110300Z
LOCATION:Coburg\, Kino Utopolis
SUMMARY:Fritz Lang
X-IMAGE:http://www.region-coburg.tv/images/medium/vhs-film-1276db0f.jpg
END:VEVENT
END:VCALENDAR
