BEGIN:VCALENDAR
METHOD:PUBLISH
PRODID:-//3724@www.region-coburg.tv//NONSGML iCalcreator 2.4.3//
VERSION:2.0
BEGIN:VEVENT
UID:3724-20160719201500-20160719000000@www.region-coburg.tv
DTSTAMP:20260420T064136Z
CONTACT:09561 / 239051
CREATED:20160514T110200Z
DESCRIPTION:Die Geschichte handelt von den Gefährdungen hemmungsloser Sinn
 enlust. Sternekoch Adam Jones begeistert seine Gäste durch wagemutige abe
 r brillante Kreationen\, überträgt diese Experimentierfreude allerdings 
 verhängnisvoll auf sein Privatleben - mit Drogenexzessen und Kontrollverl
 ust. Nach einem tiefem Sturz und langem Entzug wagt Jones ein fulminantes 
 Comeback in London\, vor Augen sein ganz persönliches Ziel: der dritte Mi
 chelin-Stern. Doch um diese Vision wirklich zu erreichen können\, muss de
 r Starkoch auch über seinen eigenen Schatten springen ...VHS-Film der Woc
 he\, USA 2015 - Tickets: 09561 / 239051
DTEND:20160719T000000
DTSTART:20160719T201500
LAST-MODIFIED:20160514T110200Z
LOCATION:Coburg\, Kino Utopolis
SUMMARY:Im Rausch der Sterne
X-IMAGE:http://www.region-coburg.tv/images/medium/vhs-film-1276db0f.jpg
END:VEVENT
END:VCALENDAR
