BEGIN:VCALENDAR
METHOD:PUBLISH
PRODID:-//3723@www.region-coburg.tv//NONSGML iCalcreator 2.4.3//
VERSION:2.0
BEGIN:VEVENT
UID:3723-20160713201500-20160713000000@www.region-coburg.tv
DTSTAMP:20260420T063849Z
CONTACT:09561 / 239051
CREATED:20160514T110000Z
DESCRIPTION:Die Freundinnen Milly und Jess verfolgen völlig unterschiedlic
 he Glückskonzepte: Milly genießt ihr scheinbar perfektes bürgerliches H
 ochglanzleben\, während Jess alternative Experimente wagt. Das anscheinen
 d unzerreißbare Band zwischen beiden Frauen wird jedoch straff gespannt\,
  als Jess glücklich schwanger wird\, während Milly mit der düsteren Dia
 gnose und Krankheit Brustkrebs ringt. Jess und Milly stehen nun vor einer 
 doppelten Herausforderung\; gelingt es ihnen den völlig andersartigen Leb
 enspfad der Freundin ernst zu nehmen und diese weiterhin in das eigene Leb
 en zu integrieren?VHS-Film der Woche\, Großbritannien 2015 - Tickets: 095
 61 / 239051
DTEND:20160713T000000
DTSTART:20160713T201500
LAST-MODIFIED:20160514T110000Z
LOCATION:Coburg\, Kino Utopolis
SUMMARY:Im Himmel trägt man hohe Schuhe
X-IMAGE:http://www.region-coburg.tv/images/medium/vhs-film-1276db0f.jpg
END:VEVENT
END:VCALENDAR
