BEGIN:VCALENDAR
METHOD:PUBLISH
PRODID:-//3722@www.region-coburg.tv//NONSGML iCalcreator 2.4.3//
VERSION:2.0
BEGIN:VEVENT
UID:3722-20160706201500-20160706000000@www.region-coburg.tv
DTSTAMP:20260420T044324Z
CONTACT:09561 / 239051
CREATED:20160514T105700Z
DESCRIPTION:25 Jahre Samba in CoburgHaushälterin Val hat sich mit ihrer di
 enenden Rolle bei einer wohlhabenden Familie angenehm arrangiert\, denn si
 e wird freundlich behandelt und wertgeschätzt. Daher hinterfragt sie auch
  zu keiner Zeit die gesellschaftlichen Schranken des Dienstverhältnisses 
 – zumindest bis ihre Tochter Jessica auftritt\, die sich auf ihr Studium
  in Sao Paulo freut. Im Gegensatz zu ihrer Mutter ignoriert Jessica nämli
 ch Konventionen und Standesschranken\, was sehr schnell zu beträchtlichen
  Aufregungen führt und das eingespielte Gefüge zwischen Val und ihrer Di
 enstfamilie auf die Probe stellt.VHS-Film der Woche\, Brasilien 2015 - Tic
 kets: 09561 / 239051
DTEND:20160706T000000
DTSTART:20160706T201500
LAST-MODIFIED:20160514T105700Z
LOCATION:Coburg\, Kino Utopolis
SUMMARY:Der Sommer mit Mama
X-IMAGE:http://www.region-coburg.tv/images/medium/vhs-film-1276db0f.jpg
END:VEVENT
END:VCALENDAR
