BEGIN:VCALENDAR
METHOD:PUBLISH
PRODID:-//3721@www.region-coburg.tv//NONSGML iCalcreator 2.4.3//
VERSION:2.0
BEGIN:VEVENT
UID:3721-20160629201500-20160629000000@www.region-coburg.tv
DTSTAMP:20260420T044015Z
CONTACT:09561 / 239051
CREATED:20160514T105500Z
DESCRIPTION:DokumentarfilmMoore bilden einen uralten Lebensraum zahlloser P
 flanzen und Tiere\, die in dieser mystischen Zwischenwelt ihre ökologisch
 e Nische\, sichere Rückzugsorte oder auch fette Jagdreviere finden. Die D
 okumentation entwirft ein opulentes Portrait dieser spannenden Naturräume
 \, ihrer biologischen Rhythmen und vielgestaltigen Bewohner im Spiegel kre
 isender Jahreszeiten.VHS-Film der Woche\, Deutschland 2015 - Tickets: 0956
 1 / 239051
DTEND:20160629T000000
DTSTART:20160629T201500
LAST-MODIFIED:20160514T105500Z
LOCATION:Coburg\, Kino Utopolis
SUMMARY:Magie der Moore
X-IMAGE:http://www.region-coburg.tv/images/medium/vhs-film-1276db0f.jpg
END:VEVENT
END:VCALENDAR
