BEGIN:VCALENDAR
METHOD:PUBLISH
PRODID:-//3720@www.region-coburg.tv//NONSGML iCalcreator 2.4.3//
VERSION:2.0
BEGIN:VEVENT
UID:3720-20160622201500-20160622000000@www.region-coburg.tv
DTSTAMP:20260420T044456Z
CONTACT:09561 / 239051
CREATED:20160514T105300Z
DESCRIPTION:Die Auswanderergeschichte erzählt das Drama einer doppelten In
 tegration: Zu Beginn der 50er Jahre wagt Eilis ihre Emigration von Irland 
 nach New York. Erfolgreich integriert sich die junge Frau zunächst in die
  amerikanische Gesellschaft\, in der sie sowohl Arbeit als auch sozialen A
 nschluss und schließlich ihr Eheglück findet. Trotzdem sehnt sich Eilis 
 nach ihrer alten Heimat\, in die sie schließlich aus familiären Gründen
  zurückkehrt. Doch die New Yorker Erlebnisse haben sie verändert\, wesha
 lb sich Eilis nun ein weiteres Mal den Herausforderungen der Integration s
 tellen muss.VHS-Film der Woche\, Irland/Großbritannien/Kanada 2015 - Tick
 ets: 09561 / 239051
DTEND:20160622T000000
DTSTART:20160622T201500
LAST-MODIFIED:20160514T105300Z
LOCATION:Coburg\, Kino Utopolis
SUMMARY:Brooklyn - Eine Liebe zwischen zwei Welten
X-IMAGE:http://www.region-coburg.tv/images/medium/vhs-film-1276db0f.jpg
END:VEVENT
END:VCALENDAR
