BEGIN:VCALENDAR
METHOD:PUBLISH
PRODID:-//3719@www.region-coburg.tv//NONSGML iCalcreator 2.4.3//
VERSION:2.0
BEGIN:VEVENT
UID:3719-20160614201500-20160614000000@www.region-coburg.tv
DTSTAMP:20260420T044451Z
CONTACT:09561 / 239051
CREATED:20160514T105200Z
DESCRIPTION:Die Beach Boys um Brian Wilson schreiben während der 60er Jahr
 e Musikgeschichte mit Liedern wie „Surfin‘ U.S.A.' oder „Good Vibrat
 ions“.Doch der exzessive Lebensstil\, Drogen und allgemeiner Kräftevers
 chleiß torpedieren die Karriere der Erfolgsband\, die eigentlich „Pet S
 ounds“ vollenden will\, ein epochales Album\, mit dem vor allem Brian Wi
 lson seine Vision eines kongenialen Meisterwerks verfolgt. Doch vielschich
 tige Beziehungen und persönliche Krisen nagen an der Verwirklichung diese
 s Traums.VHS-Film der Woche\, USA 2014 - Tickets: 09561 / 239051
DTEND:20160614T000000
DTSTART:20160614T201500
LAST-MODIFIED:20160514T105200Z
LOCATION:Coburg\, Kino Utopolis
SUMMARY:Love & Mercy
X-IMAGE:http://www.region-coburg.tv/images/medium/vhs-film-1276db0f.jpg
END:VEVENT
END:VCALENDAR
