BEGIN:VCALENDAR
METHOD:PUBLISH
PRODID:-//3718@www.region-coburg.tv//NONSGML iCalcreator 2.4.3//
VERSION:2.0
BEGIN:VEVENT
UID:3718-20160608201500-20160608000000@www.region-coburg.tv
DTSTAMP:20260420T044619Z
CONTACT:09561 / 239051
CREATED:20160514T105000Z
DESCRIPTION:Nach dem militärischen Zusammenbruch Frankreichs besetzt die d
 eutsche Wehrmacht 1940 Paris. Graf Wolff-Metternich erhält den Auftrag\, 
 die einzigartigen Kunstschätze des Louvre zu sichten\, während dessen Di
 rektor Jacques Jaujard verzweifelt versucht\, diese Werke für Frankreich 
 zu bewahren. Überraschenderweise entdecken beide Männer bald Gemeinsamke
 iten\, vor allem ihre große Liebe zur Kunst. So entwickelt sich „Franco
 fonia“ zur Chronik der komplexen Beziehung dieser beiden Intellektuellen
  – im Schraubstock von Krieg und kultureller Leidenschaft.VHS-Film der W
 oche\, Deutschland/Frankreich/Niederlande 2015 - Tickets: 09561 / 239051
DTEND:20160608T000000
DTSTART:20160608T201500
LAST-MODIFIED:20160514T105000Z
LOCATION:Coburg\, Kino Utopolis
SUMMARY:Francofonia
X-IMAGE:http://www.region-coburg.tv/images/medium/vhs-film-1276db0f.jpg
END:VEVENT
END:VCALENDAR
