BEGIN:VCALENDAR
METHOD:PUBLISH
PRODID:-//3717@www.region-coburg.tv//NONSGML iCalcreator 2.4.3//
VERSION:2.0
BEGIN:VEVENT
UID:3717-20160531201500-20160531000000@www.region-coburg.tv
DTSTAMP:20260420T025950Z
CONTACT:09561 / 239051
CREATED:20160514T104800Z
DESCRIPTION:DokumentarfilmDie Dokumentation beschäftigt sich mit einem zen
 tralen Thema aller menschlichen Gesellschaften - der Suche nach dem perfek
 ten Partner. Hier entfalten Individuen oft sehr eigenwillige Methoden\, um
  das ganz persönliche Beziehungs-Glück zu finden. Die Regisseurin Lia Ja
 spers bemüht sich um die sensible Darstellung solcher Lösungskonzepte: E
 in Jahr lang dokumentiert sie die individuellen Strategien dreier sehr unt
 erschiedlicher Frauen aus Österreich\, Finnland und Deutschland..VHS-Film
  der Woche\, Deutschland/Frankreich/ Irland\,/Litauen/Österreich 2014 - T
 ickets: 09561 / 239051
DTEND:20160531T000000
DTSTART:20160531T201500
LAST-MODIFIED:20160514T104800Z
LOCATION:Coburg\, Kino Utopolis
SUMMARY:Match Me!
X-IMAGE:http://www.region-coburg.tv/images/medium/vhs-film-1276db0f.jpg
END:VEVENT
END:VCALENDAR
