BEGIN:VCALENDAR
METHOD:PUBLISH
PRODID:-//3716@www.region-coburg.tv//NONSGML iCalcreator 2.4.3//
VERSION:2.0
BEGIN:VEVENT
UID:3716-20160525201500-20160525000000@www.region-coburg.tv
DTSTAMP:20260420T030119Z
CONTACT:09561 / 239051
CREATED:20160514T104700Z
DESCRIPTION:Der Film begleitet die dramatische Charakter-Entwicklung der WĂ
 €scherin Maud Watts im London der 1910er Jahre - eingebettet in die Geschi
 chte der britischen Frauenemanzipation: Die junge Frau lebt zunĂ€chst als 
 Ehefrau und Mutter ein angepasstes Leben im East End. Aber durch ihre Beka
 nnte Violet gerĂ€t sie in eine Clique der Suffragetten-Bewegung\, deren St
 reiterinnen sich couragiert fĂŒr das Wahlrecht britischer Frauen stark mac
 hen. Obwohl zu Beginn eher zurĂŒckhaltend\, begeistert sich Maud zunehmend
  fĂŒr die Ideale der Suffragetten\, bezieht mutig Position und gerĂ€t schl
 ieĂlich in einen riskanten Strudel zwischen politischer Ăberzeugung und 
 persĂ¶nlichem Risiko..VHS-Film der Woche\, GroĂbritannien 2015 - Tickets:
  09561 / 239051
DTEND:20160525T000000
DTSTART:20160525T201500
LAST-MODIFIED:20160514T104700Z
LOCATION:Coburg\, Kino Utopolis
SUMMARY:Suffragette
X-IMAGE:http://www.region-coburg.tv/images/medium/vhs-film-1276db0f.jpg
END:VEVENT
END:VCALENDAR
