BEGIN:VCALENDAR
METHOD:PUBLISH
PRODID:-//3715@www.region-coburg.tv//NONSGML iCalcreator 2.4.3//
VERSION:2.0
BEGIN:VEVENT
UID:3715-20160518201500-20160518000000@www.region-coburg.tv
DTSTAMP:20260420T030155Z
CONTACT:09561 / 239051
CREATED:20160514T104400Z
DESCRIPTION:Regisseurin Naomi Kawase erzÃ¤hlt die Geschichte einer kulinari
 schen Beziehung: Wegen ihrer fantastischen Bohnenpastete engagiert Pfannku
 chen-BÃ¤cker Sentaro die in die Jahre gekommene eigenwillige Tokue\; tatsÃ
 ¤chlich entwickelt sich die Zusammenarbeit des Duos zu einem gewaltigen Er
 folg. Auch persÃ¶nlich lernen sich die ungleichen BÃ¤cker schÃ¤tzen - alle
 rdings werfen Tokues und Sentaros Lebensgeschichten schlieÃŸlich ihre Scha
 tten Ã¼ber den kulinarischen Triumphzug des KÃ¼chengespanns â€¦VHS-Film de
 r Woche\, Deutschland/Frankreich/Japan 2015 - Tickets: 09561 / 239051
DTEND:20160518T000000
DTSTART:20160518T201500
LAST-MODIFIED:20160514T104400Z
LOCATION:Coburg\, Kino Utopolis
SUMMARY:KirschblÃ¼ten und rote Bohnen
X-IMAGE:http://www.region-coburg.tv/images/medium/vhs-film-1276db0f.jpg
END:VEVENT
END:VCALENDAR
