BEGIN:VCALENDAR
METHOD:PUBLISH
PRODID:-//3710@www.region-coburg.tv//NONSGML iCalcreator 2.4.3//
VERSION:2.0
BEGIN:VEVENT
UID:3710-20160706193000-20160706000000@www.region-coburg.tv
DTSTAMP:20260420T165027Z
CONTACT:09561 / 898989
CREATED:20160507T184900Z
DESCRIPTION:Dido and Aeneas | Riders to the seaOper von Henry Purcell / Ope
 r von Ralph Vaughan WilliamsNach den Erfolgen von „King Arthur' (Henry P
 urcell) und „Savitri' (Gustav Holst) stehen sich nun zwei englische Wer
 ke an einem Abend gegenüber\, deren Musik ebenso schön wie geheimnisvol
 l ist. In der Barockoper wie im gruselig-fantastischen Einakter des früh
 en 20. Jahrhunderts haben verborgene Mächte das Sagen. Purcell zeichnet
  das kurze Glück eines Liebespaares nach\, das von einer bösen Hexe um 
 sein Glück gebracht wird. Die Zauberin vergällt Dido und Aeneas ein gem
 einsames Leben. Seinen Dienstpflichten gehorchend\, macht sich Aeneas sch
 ließlich auf den Seeweg nach Italien. Die verlassene Dido hingegen begeh
 t Selbstmord.Auch Maurya\, eine ältere irische Inselbewohnerin in Ralph V
 aughan Williams' Oper „Riders to the Sea' verliert ihr Glück an das Me
 er. Ihre sechs Söhne finden den Tod in den Wellen. Durch diesen tragisch
 en Moment verbinden sich die beiden 250 Jahre voneinander entfernten Werk
 e auf magische Weise miteinander. Das Meer und die Wellen stehen für ein
  scheinbar unbezwingbares Schicksal\, dass dennoch seinen Schrecken verli
 eren kann. Mutter Maurya sagt ganz am Ende: „ Jetzt hat mir das Meer al
 les genommen\, nun kann es mir nichts mehr anhaben.'VideoLandestheater Co
 burg\, Premiere am 18. Juni 2016 - Tickets: 09561 / 898989
DTEND:20160706T000000
DTSTART:20160706T193000
LAST-MODIFIED:20160507T184900Z
LOCATION:Landestheater Coburg\, Großes Haus
SUMMARY:Dido and Aeneas | Riders to the sea
X-IMAGE:http://www.region-coburg.tv/images/medium/dido-vh-dab5a9c6.jpg
END:VEVENT
END:VCALENDAR
