BEGIN:VCALENDAR
METHOD:PUBLISH
PRODID:-//3709@www.region-coburg.tv//NONSGML iCalcreator 2.4.3//
VERSION:2.0
BEGIN:VEVENT
UID:3709-20160605110000-20160605000000@www.region-coburg.tv
DTSTAMP:20260420T083530Z
CONTACT:Eintritt frei!
CREATED:20160507T184500Z
DESCRIPTION:Dido and Aeneas / Riders to the seaOper von Henry Purcell / Ope
 r von Ralph Vaughan WilliamsLandestheater Coburg\, Matinée zur Premiere a
 m 18. Juni 2016 - Tickets: Eintritt frei!
DTEND:20160605T000000
DTSTART:20160605T110000
LAST-MODIFIED:20160507T184500Z
LOCATION:Theater in der Reithalle
SUMMARY:Matinée
X-IMAGE:http://www.region-coburg.tv/images/medium/ltc-7b7cb14f.jpg
END:VEVENT
END:VCALENDAR
