BEGIN:VCALENDAR
METHOD:PUBLISH
PRODID:-//3706@www.region-coburg.tv//NONSGML iCalcreator 2.4.3//
VERSION:2.0
BEGIN:VEVENT
UID:3706-20160522180000-20160522000000@www.region-coburg.tv
DTSTAMP:20260420T044604Z
CONTACT:09561 / 898989
CREATED:20160507T182300Z
DESCRIPTION:Improtheater mit Ensemblemitgliedern des Landestheaters Coburg 
 - Tickets: 09561 / 898989
DTEND:20160522T000000
DTSTART:20160522T180000
LAST-MODIFIED:20160507T182300Z
LOCATION:Coburg\, Theater in der Reithalle
SUMMARY:Freistaat Coburg
X-IMAGE:http://www.region-coburg.tv/images/medium/logo-ltc-freistaat-947966
 f2.jpg
END:VEVENT
END:VCALENDAR
