BEGIN:VCALENDAR
METHOD:PUBLISH
PRODID:-//3705@www.region-coburg.tv//NONSGML iCalcreator 2.4.3//
VERSION:2.0
BEGIN:VEVENT
UID:3705-20160522110000-20160522000000@www.region-coburg.tv
DTSTAMP:20260420T044604Z
CONTACT:Eintritt frei!
CREATED:20160507T182000Z
DESCRIPTION:Die Grönholm-Methode - Schauspiel von Jordi GalceranLandesthea
 ter Coburg\, Matinée zur Premiere am 28. Mai 2016 - Tickets: Eintritt fre
 i!
DTEND:20160522T000000
DTSTART:20160522T110000
LAST-MODIFIED:20160507T182000Z
LOCATION:Theater in der Reithalle
SUMMARY:Matinée
X-IMAGE:http://www.region-coburg.tv/images/medium/ltc-7b7cb14f.jpg
END:VEVENT
END:VCALENDAR
