BEGIN:VCALENDAR
METHOD:PUBLISH
PRODID:-//3704@www.region-coburg.tv//NONSGML iCalcreator 2.4.3//
VERSION:2.0
BEGIN:VEVENT
UID:3704-20160603193000-20160603000000@www.region-coburg.tv
DTSTAMP:20260420T064143Z
CONTACT:09561 / 898989
CREATED:20160507T181500Z
DESCRIPTION:Schauspiel von Jordi GalceranJordi Galceran hinterfragt mit sei
 nem Stück\, wie mit der „Ressource Mensch' umgegangen wird. Das Publik
 um kann sich seine eigene Meinung bilden\, die Prüfungen der vier Protag
 onisten mit Staunen beobachten oder sich fragen\, wie es selbst die Prüf
 ungen angehen würde.„Die Grönholm-Methode' ist ein intelligentes\, ze
 itgenössisches Schauspiel mit tiefen Wurzeln: Schließlich fiebern wir s
 chon seit der Antike mit Helden\, die – damals von den Göttern – unl
 ösbar scheinende Prüfungen auferlegt bekamen und nicht selten dadurch z
 u sich selbst gefunden haben.VideoLandestheater Coburg\, Wiederaufnahme a
 m 13. Oktober 2016 - Tickets: 09561 / 898989
DTEND:20160603T000000
DTSTART:20160603T193000
LAST-MODIFIED:20160507T181500Z
LOCATION:Landestheater\, Großes Haus
SUMMARY:Die Grönholm-Methode
X-IMAGE:http://www.region-coburg.tv/images/medium/groenholm-vh-a77ac8e9.jpg
END:VEVENT
END:VCALENDAR
