BEGIN:VCALENDAR
METHOD:PUBLISH
PRODID:-//3703@www.region-coburg.tv//NONSGML iCalcreator 2.4.3//
VERSION:2.0
BEGIN:VEVENT
UID:3703-20160510200000-20160510000000@www.region-coburg.tv
DTSTAMP:20260420T011609Z
CONTACT:09561 / 898989
CREATED:20160507T174400Z
DESCRIPTION:Schauspiel von Lutz HÃ¼bnerDie erfolgreichsten deutschen KomÃ¶d
 ien spielen in der Schule. KaumÂ jemand wÃ¼rde einem Videoabend mit Filmen
  wie der â€žFeuerzangenbowle'\,Â dem â€žFliegenden Klassenzimmer' oder â€ž
 Fack ju GÃ¶the'Â fernbleiben. Wir lieben unsere Erinnerung an die Schulzei
 t oderÂ engagieren uns gern im Elternbeirat\, wenn die eigenen Kinder in d
 asÂ Alter kommen.â€žFrau MÃ¼ller muss weg' nimmt die Eltern ins Visier. Im
  Stile einer KonversationskomÃ¶die wie â€žDer Gott des Gemetzels' greift E
 rfolgsautorÂ Lutz HÃ¼bner dieses Thema auf und spielt virtuos mit ihm. In 
 derÂ Kinofassung konnte Anke Engelke bereits die Ã¼berspannte â€žHelikopte
 r-Mutter' geben\, und wir freuen uns unbÃ¤ndig darauf\, wie sich dasÂ komÃ
 ¶dienerprobte Coburger Theaterensemble die wunderbarenÂ Elternfiguren â€žv
 orknÃ¶pft'.VideoLandestheater Coburg\, Premiere am 7. Mai 2016 - Tickets: 
 09561 / 898989
DTEND:20160510T000000
DTSTART:20160510T200000
LAST-MODIFIED:20160507T174400Z
LOCATION:Theater in der Reithalle
SUMMARY:Frau MÃ¼ller muss weg
X-IMAGE:http://www.region-coburg.tv/images/medium/frau-mueller-1f54332d.jpg
END:VEVENT
END:VCALENDAR
