BEGIN:VCALENDAR
METHOD:PUBLISH
PRODID:-//3702@www.region-coburg.tv//NONSGML iCalcreator 2.4.3//
VERSION:2.0
BEGIN:VEVENT
UID:3702-20160513193000-20160513000000@www.region-coburg.tv
DTSTAMP:20260420T030221Z
CONTACT:09561 / 898989
CREATED:20160507T085800Z
DESCRIPTION:Oper von Léo DelibesIn französischer Sprache mit deutschen Ü
 bertiteln Der Zauber eines Markttages schillert in vielen Farben. Da ist 
 die neblige Erwartung\, wenn am Morgen die Waren ausgelegt werden\, und 
 die Stadt noch in den Federn liegt. Da ist das bunte Treiben am Vormittag
 \, wenn sich die Bürger der Stadt auf dem Markt treffen und Neuigkeiten 
 austauschen.In vielen Bühnenwerken finden sich Märkte als wichtige Orte 
 der Handlung wieder\, so auch in Léo Delibes Oper „Lakmé‟. Hier rä
 cht sich der Brahmane Nilakantha auf einem indischen Markt durch einen M
 esserstich an dem englischen Soldaten Gérald.VideoLandestheater Coburg\, 
 Premiere am 8. Mai 2016 - Tickets: 09561 / 898989
DTEND:20160513T000000
DTSTART:20160513T193000
LAST-MODIFIED:20160507T085800Z
LOCATION:Landestheater Coburg\, Großes Haus
SUMMARY:Lakmé
X-IMAGE:http://www.region-coburg.tv/images/medium/lakme-vh-97910788.jpg
END:VEVENT
END:VCALENDAR
