BEGIN:VCALENDAR
METHOD:PUBLISH
PRODID:-//3701@www.region-coburg.tv//NONSGML iCalcreator 2.4.3//
VERSION:2.0
BEGIN:VEVENT
UID:3701-20160509190000-20160509000000@www.region-coburg.tv
DTSTAMP:20260420T030119Z
CONTACT:09568 / 81136
CREATED:20160503T201800Z
DESCRIPTION:Helge Jost Kienel: 'Coburger Charakterköpfe'„Coburger Charak
 terköpfe... Erzählungen über markante Persönlichkeiten“ ist der Tite
 l des neuen Buches von Helge Jost Kienel. Der Coburger Historiker ist am M
 ontag\, den 09. Mai in der Stadtbücherei Neustadt zu Gast. Auf humorvolle
  und unterhaltsame Art  - ohne trockene Jahreszahlen -  stellt er markan
 te Persönlichkeiten unserer Heimatgeschichte vor. - Tickets: 09568 / 8113
 6
DTEND:20160509T000000
DTSTART:20160509T190000
LAST-MODIFIED:20160503T201800Z
LOCATION:Stadtbücherei Neustadt
SUMMARY:Coburger Charakterköpfe
X-IMAGE:http://www.region-coburg.tv/images/medium/charakterkoepfe-bce858c6.
 jpg
END:VEVENT
END:VCALENDAR
