BEGIN:VCALENDAR
METHOD:PUBLISH
PRODID:-//3697@www.region-coburg.tv//NONSGML iCalcreator 2.4.3//
VERSION:2.0
BEGIN:VEVENT
UID:3697-20160507000000-20160507000000@www.region-coburg.tv
DTSTAMP:20260420T025950Z
CREATED:20160503T195500Z
DESCRIPTION:Regionale Museumsnacht: „Alt und Neu“Am Samstag\, den 07. M
 ai öffnen in den Landkreisen Coburg\, Sonneberg\, Hildburghausen und Kron
 ach wieder zehn Museen zu abendlicher Stunde ihre Pforten. Die 13. Regiona
 le Museumsnacht verspricht unter dem Motto „Alt und Neu“ eine abwechsl
 ungsreiche Entdeckungsreise. Erstmals ist auch das Deutsche Burgenmuseum V
 este Heldburg mit dabei. Den interessierten Nachtschwärmern steht ein Shu
 ttle-Bus zur Verfügung.Programminfo
DTEND;VALUE=DATE:20160508
DTSTART;VALUE=DATE:20160507
LAST-MODIFIED:20160503T195500Z
LOCATION:Diverse Veranstaltungsorte
SUMMARY:Regionale Museumsnacht
X-IMAGE:http://www.region-coburg.tv/images/medium/museumsnacht-1f03bcc1.jpg
END:VEVENT
END:VCALENDAR
