BEGIN:VCALENDAR
METHOD:PUBLISH
PRODID:-//3690@www.region-coburg.tv//NONSGML iCalcreator 2.4.3//
VERSION:2.0
BEGIN:VEVENT
UID:3690-20160428200000-20160428000000@www.region-coburg.tv
DTSTAMP:20260420T025857Z
CONTACT:VVK Buchhandlung Riemann
CREATED:20160419T182800Z
DESCRIPTION:Peng! Du bist tot! - Mit Nora Gomringer & Philipp ScholzProgram
 m - Tickets: VVK Buchhandlung Riemann
DTEND:20160428T000000
DTSTART:20160428T200000
LAST-MODIFIED:20160419T182800Z
LOCATION:Pavillon Kunstverein
SUMMARY:Coburg liest
X-IMAGE:http://www.region-coburg.tv/images/medium/co-liest-vh-61bd3eaf.jpg
END:VEVENT
END:VCALENDAR
