BEGIN:VCALENDAR
METHOD:PUBLISH
PRODID:-//3689@www.region-coburg.tv//NONSGML iCalcreator 2.4.3//
VERSION:2.0
BEGIN:VEVENT
UID:3689-20160427200000-20160427000000@www.region-coburg.tv
DTSTAMP:20260420T011711Z
CONTACT:Kasse Landestheater
CREATED:20160419T182500Z
DESCRIPTION:Literatur in den Häusern unserer StadtEinen Literaturgenuss de
 r besonderen Art bieten die Lesungen bei „Literatur in den Häusern unse
 rer Stadt“. Am 27. April ist es wieder soweit – dann öffnen Coburger 
 Bürger ihre Räumlichkeiten und Wohnungen für „Coburg liest“. Schaus
 pielerinnen und Schauspieler des Landestheaters Coburg präsentieren in de
 n Häusern unserer Stadt einen vielseitigen Reigen an Texten\, ebenso abwe
 chslungsreich wie die Orte\, an denen die Lesungen stattfinden. Eine schö
 ne Gelegenheit\, die Künstler in privater Atmosphäre abseits der Bühne 
 und Coburg von einer anderen Seite kennenzulernen.Programm - Tickets: Kass
 e Landestheater
DTEND:20160427T000000
DTSTART:20160427T200000
LAST-MODIFIED:20160419T182500Z
LOCATION:Diverse Veranstaltungsorte
SUMMARY:Coburg liest
X-IMAGE:http://www.region-coburg.tv/images/medium/co-liest-vh-61bd3eaf.jpg
END:VEVENT
END:VCALENDAR
