BEGIN:VCALENDAR
METHOD:PUBLISH
PRODID:-//3688@www.region-coburg.tv//NONSGML iCalcreator 2.4.3//
VERSION:2.0
BEGIN:VEVENT
UID:3688-20160426200000-20160426000000@www.region-coburg.tv
DTSTAMP:20260420T011750Z
CONTACT:VVK Buchhandlung Riemann
CREATED:20160419T182200Z
DESCRIPTION:Autorengala mit Martin WalserProgramm - Tickets: VVK Buchhandlu
 ng Riemann
DTEND:20160426T000000
DTSTART:20160426T200000
LAST-MODIFIED:20160419T182200Z
LOCATION:Foyer HUK-COBURG
SUMMARY:Coburg liest
X-IMAGE:http://www.region-coburg.tv/images/medium/co-liest-vh-61bd3eaf.jpg
END:VEVENT
END:VCALENDAR
