BEGIN:VCALENDAR
METHOD:PUBLISH
PRODID:-//3687@www.region-coburg.tv//NONSGML iCalcreator 2.4.3//
VERSION:2.0
BEGIN:VEVENT
UID:3687-20160425200000-20160425000000@www.region-coburg.tv
DTSTAMP:20260420T011625Z
CONTACT:VVK Buchhandlung Riemann
CREATED:20160419T181500Z
DESCRIPTION:Sachbuch und Roman im Doppelpack: Eva Gesine Baur & Lea SingerP
 rogramm - Tickets: VVK Buchhandlung Riemann
DTEND:20160425T000000
DTSTART:20160425T200000
LAST-MODIFIED:20160419T181500Z
LOCATION:Pfarrzentrum St. Augustin
SUMMARY:Coburg liest
X-IMAGE:http://www.region-coburg.tv/images/medium/co-liest-vh-61bd3eaf.jpg
END:VEVENT
END:VCALENDAR
