BEGIN:VCALENDAR
METHOD:PUBLISH
PRODID:-//3686@www.region-coburg.tv//NONSGML iCalcreator 2.4.3//
VERSION:2.0
BEGIN:VEVENT
UID:3686-20160423190000-20160423000000@www.region-coburg.tv
DTSTAMP:20260420T011712Z
CONTACT:VVK Buchhandlung Riemann
CREATED:20160419T180500Z
DESCRIPTION:Roman-Marathon: Matthias Nawrat / Ursula März / / Abbas Khider
 ProgrammIm Anschluss: Gesprächsrunde mit den drei Autoren - Tickets: VVK 
 Buchhandlung Riemann
DTEND:20160423T000000
DTSTART:20160423T190000
LAST-MODIFIED:20160419T180500Z
LOCATION:Theater in der Reithalle
SUMMARY:Coburg liest
X-IMAGE:http://www.region-coburg.tv/images/medium/co-liest-vh-61bd3eaf.jpg
END:VEVENT
END:VCALENDAR
