BEGIN:VCALENDAR
METHOD:PUBLISH
PRODID:-//3677@www.region-coburg.tv//NONSGML iCalcreator 2.4.3//
VERSION:2.0
BEGIN:VEVENT
UID:3677-20160424110000-20160424000000@www.region-coburg.tv
DTSTAMP:20260420T233604Z
CONTACT:Eintritt frei!
CREATED:20160407T195400Z
DESCRIPTION:Lakmé - Oper von Léo DelibesLandestheater Coburg\, Matinée z
 ur Premiere am 8. Mai 2016 - Tickets: Eintritt frei!
DTEND:20160424T000000
DTSTART:20160424T110000
LAST-MODIFIED:20160407T195400Z
LOCATION:Landestheater Coburg\, Spiegelsaal
SUMMARY:Matinée
X-IMAGE:http://www.region-coburg.tv/images/medium/ltc-7b7cb14f.jpg
END:VEVENT
END:VCALENDAR
