BEGIN:VCALENDAR
METHOD:PUBLISH
PRODID:-//3676@www.region-coburg.tv//NONSGML iCalcreator 2.4.3//
VERSION:2.0
BEGIN:VEVENT
UID:3676-20160515180000-20160515000000@www.region-coburg.tv
DTSTAMP:20260420T025800Z
CONTACT:09561 / 898989
CREATED:20160407T181700Z
DESCRIPTION:Ballett von Mark McClain\; Musik von Johann StrauÃŸKostÃ¼m-Quad
 rillen\, Masken-Polkas und einenÂ Ã¤gyptischen Sklaventanz erfand WalzerkÃ
 ¶nig StrauÃŸ fÃ¼r den zweitenÂ Akt seines groÃŸen Handlungsballetts\, dess
 en UrauffÃ¼hrung er nicht mehr erleben sollte. Wie tragisch\, dass gerade 
 der Mann\, der dieÂ ganze Welt aufs Tanzparkett brachte\, sich diesen Trau
 m nicht mehrÂ erfÃ¼llen konnte. Umso schÃ¶ner\, dass Coburg die wundervoll
 e MusikÂ mit nicht weniger atemberaubenden TÃ¤nzerinnen und TÃ¤nzern wiede
 rÂ zum Leben erweckt. Alles Walzer? Nur in Coburg!VideoLandestheater Cobur
 g\, Premiere am 16. April 2016 - Tickets: 09561 / 898989
DTEND:20160515T000000
DTSTART:20160515T180000
LAST-MODIFIED:20160407T181700Z
LOCATION:Landestheater Coburg\, GroÃŸes Haus
SUMMARY:AschenbrÃ¶del
X-IMAGE:http://www.region-coburg.tv/images/medium/aschenbroedel-vh-a284ce0c
 .jpg
END:VEVENT
END:VCALENDAR
