BEGIN:VCALENDAR
METHOD:PUBLISH
PRODID:-//3675@www.region-coburg.tv//NONSGML iCalcreator 2.4.3//
VERSION:2.0
BEGIN:VEVENT
UID:3675-20160529180000-20160529000000@www.region-coburg.tv
DTSTAMP:20260420T064034Z
CONTACT:09561 / 898989
CREATED:20160407T181100Z
DESCRIPTION:Ein Hollywood Ending fÃ¼r HoffnungsloseWenn der Busfahrer in se
 inen RÃ¼ckspiegel schaut\, sieht er sie jedenÂ Morgen: Die mÃ¼den Gesichte
 r\, die gedankenverloren trÃ¤umendenÂ Augen und die offensichtlich leidend
 en Mienen. Einige von ihnen\,Â die da schweigend aneinander vorbeischauen\
 , kÃ¶nnten diese SongzeileÂ aus dem Queen-Klassiker â€žSomebody to love' w
 ohl sofort unterschreiben:Â â€žIch arbeite\, bis meine Knochen schmerzen. 
 Am EndeÂ nehme ich mein hart verdientes Geld fÃ¼r mich alleine mit nach Ha
 use.Â Ich knie nieder und fange an zu beten\, bis mir die TrÃ¤nen aus denÂ
  Augen treten: Herr\, finde jemanden\, irgendjemanden fÃ¼r mich\, den ichÂ
  lieben kann.'VideoLandestheater Coburg\, Premiere am 14. April 2016 - Tic
 kets: 09561 / 898989
DTEND:20160529T000000
DTSTART:20160529T180000
LAST-MODIFIED:20160407T181100Z
LOCATION:Theater in der Reithalle
SUMMARY:Alte ScheiÃŸe Liebe
X-IMAGE:http://www.region-coburg.tv/images/medium/liebe-vh-6edabd3e.jpg
END:VEVENT
END:VCALENDAR
