BEGIN:VCALENDAR
METHOD:PUBLISH
PRODID:-//3672@www.region-coburg.tv//NONSGML iCalcreator 2.4.3//
VERSION:2.0
BEGIN:VEVENT
UID:3672-20160410170000-20160410000000@www.region-coburg.tv
DTSTAMP:20260420T011615Z
CONTACT:09564 / 1550
CREATED:20160405T192600Z
DESCRIPTION:Lenßen trifft Brecht: 'Meine Herren ...“Wohl kaum jemand pol
 arisierte so stark wie Bertolt Brecht. Assoziativ und impulsiv nähert sic
 h Schauspielerin und Sängerin Anja Lenßen dem Dichter\, seinen Frauen\, 
 Frauenbildern und meisterhaften Balladen. Am Sonntag\, den 10. April heiß
 t es im Bad Rodacher Haus des Gastes: „Meine Herren – über gefallene 
 Engel\, leichte Mädchen und den Herrn mit der Zigarre“. - Tickets: 0956
 4 / 1550
DTEND:20160410T000000
DTSTART:20160410T170000
LAST-MODIFIED:20160405T192600Z
LOCATION:Haus des Gastes
SUMMARY:Anja Lenßen
X-IMAGE:http://www.region-coburg.tv/images/medium/lenssen-vh-c8c32fae.jpg
END:VEVENT
END:VCALENDAR
