BEGIN:VCALENDAR
METHOD:PUBLISH
PRODID:-//3655@www.region-coburg.tv//NONSGML iCalcreator 2.4.3//
VERSION:2.0
BEGIN:VEVENT
UID:3655-20160315200000-20160315000000@www.region-coburg.tv
DTSTAMP:20260420T232643Z
CONTACT:09561 / 85380
CREATED:20160310T174300Z
DESCRIPTION:Rückert-Biografie: 'Der große Zauberer'„Der große Zauberer
 “ – so nannten ihn aufgrund seiner Körpergröße die Einwohner des it
 alienischen Städtchens Ariccia\, wo Friedrich Rückert den Sommer 1818 ve
 rbrachte. Der große Dichter und Begründer der deutschen Orientalistik st
 arb vor 150 Jahren in Coburg. Seine zahlreichen Gedichte und Texte regten 
 nicht nur Gustav Mahler zur Vertonung der „Kindertotenlieder“ an. Am D
 ienstag\, den 15. März liest Dr. Wolfgang Weyers im Schloss Ehrenburg aus
  seiner neuen Rückert-Biografie „Der große Zauberer“. Für die entsp
 rechende musikalische Umrahmung sorgen Veronika Patterer und Diana Zohraby
 an. - Tickets: 09561 / 85380
DTEND:20160315T000000
DTSTART:20160315T200000
LAST-MODIFIED:20160310T174300Z
LOCATION:Landesbiblothek\, Andromeda-Saal
SUMMARY:Der große Zauberer
X-IMAGE:http://www.region-coburg.tv/images/medium/rueckert-vh-9bec64a5.jpg
END:VEVENT
END:VCALENDAR
