BEGIN:VCALENDAR
METHOD:PUBLISH
PRODID:-//3654@www.region-coburg.tv//NONSGML iCalcreator 2.4.3//
VERSION:2.0
BEGIN:VEVENT
UID:3654-20160313110000-20160313000000@www.region-coburg.tv
DTSTAMP:20260420T232848Z
CONTACT:09561 / 898989
CREATED:20160310T174000Z
DESCRIPTION:Nachwuchs auf der BÃ¼hne: 'Jugend spielt fÃ¼r Jugend'Wieder ein
 mal wird die BÃ¼hne des Landestheaters zum Podium fÃ¼r junge Talente aus u
 nserer Region. Die 45. Matinee der Reihe 'Jugend spielt fÃ¼r Jugend' versp
 richt Musik\, Gesang und Tanz aller Stilrichtungen\, angefangen von versch
 iedensten InstrumentalbeitrÃ¤gen bis hin zu klassischen und modernen Tanze
 inlagen der Coburger Ballettschulen. Die ambitionierten rund 160 jungen KÃ
 ¼nstler und KÃ¼nstlerinnen freuen sich zusammen mit Moderator Christian Li
 mpert vom Bayerischen Rundfunk auf ein volles Haus! - Tickets: 09561 / 898
 989
DTEND:20160313T000000
DTSTART:20160313T110000
LAST-MODIFIED:20160310T174000Z
LOCATION:Coburg\, Landestheater\, GroÃŸes Haus
SUMMARY:Jugend spielt fÃ¼r Jugend
X-IMAGE:http://www.region-coburg.tv/images/medium/jugend-fuer-jugend-8b6c65
 0c.jpg
END:VEVENT
END:VCALENDAR
