BEGIN:VCALENDAR
METHOD:PUBLISH
PRODID:-//3652@www.region-coburg.tv//NONSGML iCalcreator 2.4.3//
VERSION:2.0
BEGIN:VEVENT
UID:3652-20160311150000-20160311000000@www.region-coburg.tv
DTSTAMP:20260420T232752Z
CONTACT:09561 / 891420
CREATED:20160229T201600Z
DESCRIPTION:Internationaler Frauentag: 'Leidenschaft\, Mut\, geistige Freih
 eit“„Salonfrauen – Leidenschaft\, Mut\, geistige Freiheit“: am Fre
 itag\, den 11. März lohnt sich ein Besuch der Salonlesung mit Ulrike Mül
 ler in den historischen Räumen der Coburger „Villa Victoria“. Von den
  literarischen Tees der Berliner Jüdinnen bis zur avantgardistischen Frau
 enszene der Pariser Künstlerszene „Left Bank“: Frauen haben in ihren 
 Salons quer durch Europa Toleranz und Offenheit praktiziert und eine weibl
 ich Form der Geselligkeit geprägt\, an der im 19. Jahrhundert kein Künst
 ler vorbeikam. Die Musik liefert Gitarrist Christian Rosenau. - Tickets: 0
 9561 / 891420
DTEND:20160311T000000
DTSTART:20160311T150000
LAST-MODIFIED:20160229T201600Z
LOCATION:Hotel Villa Victoria
SUMMARY:Salonfrauen
X-IMAGE:http://www.region-coburg.tv/images/medium/salonfrauen-vh-a1042f61.j
 pg
END:VEVENT
END:VCALENDAR
