BEGIN:VCALENDAR
METHOD:PUBLISH
PRODID:-//3650@www.region-coburg.tv//NONSGML iCalcreator 2.4.3//
VERSION:2.0
BEGIN:VEVENT
UID:3650-20160422200000-20160422000000@www.region-coburg.tv
DTSTAMP:20260420T233802Z
CONTACT:09561 / 898989
CREATED:20160227T094200Z
DESCRIPTION:Refugium TheaterÂ â€žRefugium Theater â€“ refugees welcome!'\, 
 so begrÃ¼ÃŸt seit Beginn der Spielzeit ein groÃŸes Transparent die Premier
 enbesucher des GroÃŸen Hauses. Nun wird der Freistaat Coburg zum Ort der B
 egegnung\, zum Treffpunkt fÃ¼r KÃ¼nstler\, Publikum und Menschen\, die in 
 unserer Stadt Schutz suchen.Ein neuer Raum entsteht\, in dem Menschen Frei
 zeit miteinander verbringen\, kÃ¼nstlerische Projekte verwirklichen\, sich
  austauschen und Freundschaften knÃ¼pfen kÃ¶nnen:Â Mit â€žRefugium Theater
 ' hat das Landestheater Coburg ein Kultur-Netzwerk gegrÃ¼ndet\, das die MÃ
 ¶glichkeit zu Austausch\, gegenseitiger Inspiration und Kontakt mit versch
 iedenen Kulturen\, Initiativen und Menschen bietet. - Tickets: 09561 / 898
 989
DTEND:20160422T000000
DTSTART:20160422T200000
LAST-MODIFIED:20160227T094200Z
LOCATION:Coburg\, Theater in der Reithalle
SUMMARY:Freistaat Coburg
X-IMAGE:http://www.region-coburg.tv/images/medium/logo-ltc-freistaat-947966
 f2.jpg
END:VEVENT
END:VCALENDAR
