BEGIN:VCALENDAR
METHOD:PUBLISH
PRODID:-//3648@www.region-coburg.tv//NONSGML iCalcreator 2.4.3//
VERSION:2.0
BEGIN:VEVENT
UID:3648-20160413193000-20160413000000@www.region-coburg.tv
DTSTAMP:20260419T215249Z
CONTACT:09561 / 898989
CREATED:20160227T093000Z
DESCRIPTION:Schauspiel von Georg BÃ¼chnerâ€žDie Revolution frisst ihre Kind
 er.' Dies ist nur eine berÃ¼hmte TextstelleÂ aus Georg BÃ¼chners Drama â€ž
 Dantons Tod'\, das 1835 herauskamÂ und erst 1902 in Berlin uraufgefÃ¼hrt w
 erden konnte. Als â€žunspielbar'Â wurde das wortmÃ¤chtige Theaterdrama ein
 gestuft\, dabei kitzeln dieÂ groÃŸen Monologe und Wortgefechte der franzÃ¶
 sischen RevolutionÃ¤reÂ des Schauspielers Berufsehre so ganz besonders. BÃ
 ¼chners SpracheÂ fordert den Darstellern alles ab â€“ schon daher lohnt ei
 n Besuch dieserÂ Neuproduktion. Die hitzigen Debatten mÃ¼ssen mit groÃŸer 
 VirtuositÃ¤tÂ zum Leben erweckt werden.VideoLandestheater Coburg\, Premier
 e am 26. MÃ¤rz 2016 - Tickets: 09561 / 898989
DTEND:20160413T000000
DTSTART:20160413T193000
LAST-MODIFIED:20160227T093000Z
LOCATION:Landestheater Coburg\, GroÃŸes Haus
SUMMARY:Dantons Tod
X-IMAGE:http://www.region-coburg.tv/images/medium/danton-vh-e119340e.jpg
END:VEVENT
END:VCALENDAR
