BEGIN:VCALENDAR
METHOD:PUBLISH
PRODID:-//3647@www.region-coburg.tv//NONSGML iCalcreator 2.4.3//
VERSION:2.0
BEGIN:VEVENT
UID:3647-20160313110000-20160313000000@www.region-coburg.tv
DTSTAMP:20260419T144238Z
CONTACT:Eintritt frei!
CREATED:20160227T092500Z
DESCRIPTION:Dantons TodSchauspiel von Georg BüchnerLandestheater Coburg\, 
 Matinée zur Premiere am 26. März 2016 - Tickets: Eintritt frei!
DTEND:20160313T000000
DTSTART:20160313T110000
LAST-MODIFIED:20160227T092500Z
LOCATION:Coburg\, Theater in der Reithalle
SUMMARY:Matinée
X-IMAGE:http://www.region-coburg.tv/images/medium/ltc-7b7cb14f.jpg
END:VEVENT
END:VCALENDAR
