BEGIN:VCALENDAR
METHOD:PUBLISH
PRODID:-//3646@www.region-coburg.tv//NONSGML iCalcreator 2.4.3//
VERSION:2.0
BEGIN:VEVENT
UID:3646-20160312150000-20160312000000@www.region-coburg.tv
DTSTAMP:20260419T144423Z
CONTACT:09561 / 898989
CREATED:20160227T091800Z
DESCRIPTION:Ein Stück für Kinder ab 4 Jahren von Gertrud PigorGertrud Pig
 or hat das preisgekrönte Bilderbuch von Tony Ross und Hiawyn Oram für d
 ie Theaterbühne bearbeitet. Erzählt wird – übrigens nicht nur für M
 ädchen –\, was sich die „Zweite Prinzessin' so alles ausdenkt\, um e
 ndlich auch einmal ganz vorn zu stehen. Als die Königin und der König da
 s mitbekommen\, wendet sich das Märchen in eine unerwartete Richtung ...
  Bitten wir lieber den königlichen Hof-Trompeter noch einmal um seine off
 izielle Fanfare: Tätätätääää!Landestheater Coburg\, Premiere am 12.
  März 2016 - Tickets: 09561 / 898989
DTEND:20160312T000000
DTSTART:20160312T150000
LAST-MODIFIED:20160227T091800Z
LOCATION:Theater in der Reithalle
SUMMARY:Die zweite Prinzessin
X-IMAGE:http://www.region-coburg.tv/images/medium/prinzessin-vh-50cbddcc.jp
 g
END:VEVENT
END:VCALENDAR
