BEGIN:VCALENDAR
METHOD:PUBLISH
PRODID:-//3645@www.region-coburg.tv//NONSGML iCalcreator 2.4.3//
VERSION:2.0
BEGIN:VEVENT
UID:3645-20160407183000-20160407000000@www.region-coburg.tv
DTSTAMP:20260419T200536Z
CONTACT:09561 / 898989
CREATED:20160227T091200Z
DESCRIPTION:Komödie für Musik von Richard Strauss und Hugo von Hofmannsth
 alSophie\, die junge Braut\, ist die Tochter eines erfolgreichen Fabrikant
 en\, der seinen wirtschaftlichen Triumph mit einem Handel krönen möchte
 \, der die letztmögliche Gesellschaftsstufe zu erklimmen ermöglicht: d
 en Einzug in die Welt des Adels. Der Textilfabrikant verspricht dafür ei
 nem trotteligen Landadeligen das Teuerste: seine Tochter. Das macht uns n
 achdenklich. Doch Strauss und Hofmannsthal meinen es gut mit dem Bürger\
 , der ein Edelmann werden möchte. Denn liebevoll zeichnen sie auch listi
 ge Kellner und naive Gouvernanten\, quirlige Privatdetektive und einen hö
 chst loyalen Kommissar. Sie alle sorgen mit dafür\, dass alles gut wird.
  Auf der Bühne wie im richtigen Leben.VideoLandestheater Coburg\, Premier
 e am 6. März 2016 - Tickets: 09561 / 898989
DTEND:20160407T000000
DTSTART:20160407T183000
LAST-MODIFIED:20160227T091200Z
LOCATION:Landestheater Coburg\, Großes Haus
SUMMARY:Der Rosenkavalier
X-IMAGE:http://www.region-coburg.tv/images/medium/rosenkavalier-vh-f1382dcf
 .jpg
END:VEVENT
END:VCALENDAR
