BEGIN:VCALENDAR
METHOD:PUBLISH
PRODID:-//3644@www.region-coburg.tv//NONSGML iCalcreator 2.4.3//
VERSION:2.0
BEGIN:VEVENT
UID:3644-20160305170000-20160305000000@www.region-coburg.tv
DTSTAMP:20260420T232528Z
CREATED:20160223T195000Z
DESCRIPTION:Konzert mit Mehrwert: 'Mozartiana“Am Samstag\, den 05. März 
 steht in der Stadtpfarrkirche Seßlach nicht nur ein Konzert für Mozart-L
 iebhaber auf dem Programm. Der Weimarer Universitätsorganist Dr. Wieland 
 Meinhold erklärt unter dem Titel 'Klang für große und kleine Pfeifen - 
 Besuch bei der Königin' Aufbau und Klangfarben der Orgel anhand freier Im
 provisationen.
DTEND:20160305T000000
DTSTART:20160305T170000
LAST-MODIFIED:20160223T195000Z
LOCATION:Kirche Seßlach
SUMMARY:Mozartiana
X-IMAGE:http://www.region-coburg.tv/images/medium/mozartiana-vh-0ebc293d.jp
 g
END:VEVENT
END:VCALENDAR
