BEGIN:VCALENDAR
METHOD:PUBLISH
PRODID:-//3642@www.region-coburg.tv//NONSGML iCalcreator 2.4.3//
VERSION:2.0
BEGIN:VEVENT
UID:3642-20160426201500-20160426000000@www.region-coburg.tv
DTSTAMP:20260420T011446Z
CONTACT:09561 / 239051
CREATED:20160223T194100Z
DESCRIPTION:DokumentationDer Streitfall Nuklearenergie kreist um viele fins
 tere Facetten: Vom Uranabbau bis hin zu den Risiken der Atomkraftwerke und
  Endlagerstätten. Joachim Tschirners Dokumentarfilm zeichnet ein bedrück
 endes Szenario vom Uranbergbau in der untergegangenen DDR\, der nuklearen 
 Globalisierung unserer Tage sowie deren dramatischer Konsequenzen für das
  fragile Gleichgewicht zwischen Umwelt und Menschheit..VHS-Film der Woche\
 , Deutschland 2010 - Tickets: 09561 / 239051
DTEND:20160426T000000
DTSTART:20160426T201500
LAST-MODIFIED:20160223T194100Z
LOCATION:Coburg\, Kino Utopolis
SUMMARY:Yellow Cake - Die Lüge von der sauberen Energie
X-IMAGE:http://www.region-coburg.tv/images/medium/vhs-film-1276db0f.jpg
END:VEVENT
END:VCALENDAR
