BEGIN:VCALENDAR
METHOD:PUBLISH
PRODID:-//3641@www.region-coburg.tv//NONSGML iCalcreator 2.4.3//
VERSION:2.0
BEGIN:VEVENT
UID:3641-20160420201500-20160420000000@www.region-coburg.tv
DTSTAMP:20260420T011614Z
CONTACT:09561 / 239051
CREATED:20160223T193800Z
DESCRIPTION:WÃ¤hrend der â€žRoaring Twentiesâ€œ verfÃ¤llt die reiche FranzÃ
 ¶sin Marguerite ihrer Leidenschaft fÃ¼r die Musik und dilettiert auch priv
 at als SÃ¤ngerin\; allerdings fehlt ihr das notwendige Talent. Leider vers
 chweigen ihre Bekannten Marguerite diese wesentliche Tatsache\, weshalb di
 e Dame schlieÃŸlich dem Irrtum verfÃ¤llt\, eine begnadete KÃ¼nstlerin zu s
 ein: Enthusiastisch plant sie nun ihren ersten groÃŸen Auftritt ...VHS-Fil
 m der Woche\, Belgien/Frankreich/Tschechische Republik 2015 - Tickets: 095
 61 / 239051
DTEND:20160420T000000
DTSTART:20160420T201500
LAST-MODIFIED:20160223T193800Z
LOCATION:Coburg\, Kino Utopolis
SUMMARY:Madame Marguerite oder Die Kunst der schiefen TÃ¶ne
X-IMAGE:http://www.region-coburg.tv/images/medium/vhs-film-1276db0f.jpg
END:VEVENT
END:VCALENDAR
