BEGIN:VCALENDAR
METHOD:PUBLISH
PRODID:-//3640@www.region-coburg.tv//NONSGML iCalcreator 2.4.3//
VERSION:2.0
BEGIN:VEVENT
UID:3640-20160412201500-20160412000000@www.region-coburg.tv
DTSTAMP:20260420T011603Z
CONTACT:09561 / 239051
CREATED:20160223T193700Z
DESCRIPTION:Regisseur Noah Baumbach erschafft hier ein ebenso kritisches wi
 e vielschichtiges Bild vom Mythos Großstadt: Studentin Tracy fühlt sich 
 ausgerechnet in der summenden Metropole New York einsam\, wozu auch ihre u
 nglückliche Liebe zu Tony beiträgt. Erst ihre vermeintlich erfolgreiche 
 Stiefschwester Brooke bricht den Bann und öffnet Tracy die Augen für die
  Schokoladenseiten des Großstadtlebens. Doch auch der Glamour von Brooke 
 zeigt bald trübe Flecken ...VHS-Film der Woche\, USA 2015 - Tickets: 0956
 1 / 239051
DTEND:20160412T000000
DTSTART:20160412T201500
LAST-MODIFIED:20160223T193700Z
LOCATION:Coburg\, Kino Utopolis
SUMMARY:Mistress America
X-IMAGE:http://www.region-coburg.tv/images/medium/vhs-film-1276db0f.jpg
END:VEVENT
END:VCALENDAR
