BEGIN:VCALENDAR
METHOD:PUBLISH
PRODID:-//3639@www.region-coburg.tv//NONSGML iCalcreator 2.4.3//
VERSION:2.0
BEGIN:VEVENT
UID:3639-20160405201500-20160405000000@www.region-coburg.tv
DTSTAMP:20260420T011609Z
CONTACT:09561 / 239051
CREATED:20160223T193600Z
DESCRIPTION:Der „National Boychoir“ feiert mit seinem grandiosen Leiter
  Carvelle musikalische Triumphe in den ganzen USA. Für den 12-jährigen N
 euling Stet allerdings bedeuten Disziplin und Routine des traditionellen M
 usikinternats eine Art Kulturschock\, zumal seine unkontrollierten Emotion
 en den Jungen immer wieder an den Rand des Scheiterns führen. Doch zum Gl
 ück besitzt Stet noch einen letzten Rettungsanker: sein außergewöhnlich
 es Gesangstalent.VHS-Film der Woche\, USA 2014 - Tickets: 09561 / 239051
DTEND:20160405T000000
DTSTART:20160405T201500
LAST-MODIFIED:20160223T193600Z
LOCATION:Coburg\, Kino Utopolis
SUMMARY:Der Chor - Stimmen des Herzens
X-IMAGE:http://www.region-coburg.tv/images/medium/vhs-film-1276db0f.jpg
END:VEVENT
END:VCALENDAR
