BEGIN:VCALENDAR
METHOD:PUBLISH
PRODID:-//3638@www.region-coburg.tv//NONSGML iCalcreator 2.4.3//
VERSION:2.0
BEGIN:VEVENT
UID:3638-20160330201500-20160330000000@www.region-coburg.tv
DTSTAMP:20260420T232424Z
CONTACT:09561 / 239051
CREATED:20160223T193500Z
DESCRIPTION:Kino als philosophisches Kaleidoskop vor grandioser Naturkuliss
 e - das bietet Paolo Sorrentinos Regiewerk „Ewige Jugend“: In einem Sc
 hweizer Nobelhotel trifft der alternde Regisseur Boyle den berühmten Diri
 genten Ballinger\; gemeinsam gönnen sich die Künstler-Veteranen eine bri
 llante Rundumschau über Zeit- und Kunstgeist\, sowie Sinn und Unsinn des 
 Lebens.VHS-Film der Woche\, Italien/Frankreich/Schweiz /Großbritannien 20
 15 - Tickets: 09561 / 239051
DTEND:20160330T000000
DTSTART:20160330T201500
LAST-MODIFIED:20160223T193500Z
LOCATION:Coburg\, Kino Utopolis
SUMMARY:Ewige Jugend
X-IMAGE:http://www.region-coburg.tv/images/medium/vhs-film-1276db0f.jpg
END:VEVENT
END:VCALENDAR
