BEGIN:VCALENDAR
METHOD:PUBLISH
PRODID:-//3637@www.region-coburg.tv//NONSGML iCalcreator 2.4.3//
VERSION:2.0
BEGIN:VEVENT
UID:3637-20160323201500-20160323000000@www.region-coburg.tv
DTSTAMP:20260420T232424Z
CONTACT:09561 / 239051
CREATED:20160223T193200Z
DESCRIPTION:Gustave Flauberts Gesellschaftsdrama rankt sich um die Themen U
 nzufriedenheit und träumerischer Realitätsverlust: Emma Bovary ist Roman
 tikerin und sehnt sich nach der wahren Liebe\, die sie aber in ihrer Ehe m
 it Dr. Bovary nicht finden zu können glaubt. Daher treiben Sehnsucht und 
 Wehmut die junge Frau zunächst in die Arme eines eleganten Aristokraten -
  und schließlich in den Strudel dramatischer Verschuldung und gesellschaf
 tlichen Bankrotts.VHS-Film der Woche\, Großbritannien/Belgien 2014 - Tick
 ets: 09561 / 239051
DTEND:20160323T000000
DTSTART:20160323T201500
LAST-MODIFIED:20160223T193200Z
LOCATION:Coburg\, Kino Utopolis
SUMMARY:Madame Bovary
X-IMAGE:http://www.region-coburg.tv/images/medium/vhs-film-1276db0f.jpg
END:VEVENT
END:VCALENDAR
