BEGIN:VCALENDAR
METHOD:PUBLISH
PRODID:-//3636@www.region-coburg.tv//NONSGML iCalcreator 2.4.3//
VERSION:2.0
BEGIN:VEVENT
UID:3636-20160316201500-20160316000000@www.region-coburg.tv
DTSTAMP:20260420T232229Z
CONTACT:09561 / 239051
CREATED:20160223T193100Z
DESCRIPTION:Die Geschwister Wendy und Jon Savage haben sich nach ihrer stre
 ngen Erziehung aus den Augen verloren und feilen inzwischen an ihrem jewei
 ls ganz persönlichen Lebensmodell. Plötzlich platzt eine folgenreiche Na
 chricht in den Alltag der intellektuellen Egozentriker: Ihr Vater Lenny be
 nötigt wegen einer Demenzerkrankung dringend die Pflege seiner Kinder!VHS
 -Film der Woche\, USA 2007 - Tickets: 09561 / 239051
DTEND:20160316T000000
DTSTART:20160316T201500
LAST-MODIFIED:20160223T193100Z
LOCATION:Coburg\, Kino Utopolis
SUMMARY:Die Geschwister Savage
X-IMAGE:http://www.region-coburg.tv/images/medium/vhs-film-1276db0f.jpg
END:VEVENT
END:VCALENDAR
