BEGIN:VCALENDAR
METHOD:PUBLISH
PRODID:-//3635@www.region-coburg.tv//NONSGML iCalcreator 2.4.3//
VERSION:2.0
BEGIN:VEVENT
UID:3635-20160309201500-20160309000000@www.region-coburg.tv
DTSTAMP:20260420T232629Z
CONTACT:09561 / 239051
CREATED:20160223T192800Z
DESCRIPTION:Dokumentation zum WeltfrauentagDie 14-jährige Malala Yousafzai
  setzt sich als Bloggerin couragiert für die Rechte von Mädchen in Pakis
 tan ein\, weshalb sie 2012 zum Opfer eines Attentats der Taliban wird: Mit
  einer furchtbaren Kopfverletzung kommt das Mädchen nach Großbritannien.
  Sie überlebt und setzt ihr Engagement entschlossen fort\; im Jahr 2014 e
 rhält die junge Frauenrechtsaktivistin für ihre Arbeit den Friedensnobel
 preis.VHS-Film der Woche\, USA 2015 - Tickets: 09561 / 239051
DTEND:20160309T000000
DTSTART:20160309T201500
LAST-MODIFIED:20160223T192800Z
LOCATION:Coburg\, Kino Utopolis
SUMMARY:Malala - Ihr Recht auf Bildung
X-IMAGE:http://www.region-coburg.tv/images/medium/vhs-film-1276db0f.jpg
END:VEVENT
END:VCALENDAR
